BEGIN:VCALENDAR
PRODID:-//eluceo/ical//2.0/EN
VERSION:2.0
CALSCALE:GREGORIAN
BEGIN:VEVENT
UID:d1c1b86fa1cba305ab86cc5c93c1b80d
DTSTAMP:20260420T044332Z
SUMMARY:Hadassah Book Club
DESCRIPTION:Jewish Federation of the Berkshires\nBerkshire Jewish Community
  Calendar\nhttps://jewishberkshires.org/jewish-federation-of-the-berkshire
 s-calendar/hadassah-book-club-1439227801\n\nDiscussion of a book of genera
 l Jewish interest. Light refreshments served.
DTSTART;TZID=America/New_York:20160225T193000
DTEND;TZID=America/New_York:20160225T213000
END:VEVENT
END:VCALENDAR
