BEGIN:VCALENDAR
PRODID:-//eluceo/ical//2.0/EN
VERSION:2.0
CALSCALE:GREGORIAN
BEGIN:VEVENT
UID:6bc4137d88b3350b36e7bf141086e36e
DTSTAMP:20260422T050246Z
SUMMARY:Hadassah at Tanglewood
DESCRIPTION:Jewish Federation of the Berkshires\nBerkshire Jewish Community
  Calendar\nhttps://jewishberkshires.org/jewish-federation-of-the-berkshire
 s-calendar/hadassah-at-tanglewood-1456929136\n\nJoin Berkshire Hills Hadas
 sah on the lawn at Tanglewood.
DTSTART;TZID=America/New_York:20160807T120000
DTEND;TZID=America/New_York:20160807T170000
END:VEVENT
END:VCALENDAR
