BEGIN:VCALENDAR
PRODID:-//eluceo/ical//2.0/EN
VERSION:2.0
CALSCALE:GREGORIAN
BEGIN:VEVENT
UID:eb1b43997050bb93dfb347559a6350a3
DTSTAMP:20260423T143639Z
SUMMARY:Guided Group Tour at the Berkshire Botanical Gardens
DESCRIPTION:Jewish Federation of the Berkshires\nBerkshire Jewish Community
  Calendar\nhttps://jewishberkshires.org/jewish-federation-of-the-berkshire
 s-calendar/guided-tour-at-the-berkshire-botanical-gardens\n\nPlease join u
 s for a guided tour of Berkshire Botanical Gardens.\n\nThis program is fre
 e but pre-registration is required and space is limited\, first come first
  served\, with no walk-ins. Tickets are required to show.\n\nRegister Here
 \n\nPlease meet in front of the Visitor Center at 10:15. You are welcome t
 o bring your own bag lunch and beverage and to sit in a shaded area by the
  gardens or inside The Education Center where there is AC. \n\nThe garden
 s serve as a living classroom with plant m...
DTSTART;TZID=America/New_York:20210826T103000
DTEND;TZID=America/New_York:20210826T113000
END:VEVENT
END:VCALENDAR
