BEGIN:VCALENDAR
PRODID:-//eluceo/ical//2.0/EN
VERSION:2.0
CALSCALE:GREGORIAN
BEGIN:VEVENT
UID:668af33eab1f2f8d606d5f41d9261fa3
DTSTAMP:20260421T193239Z
SUMMARY:Guest Rabbi Bethie Miller will join us for Shabbat at Hevreh
DESCRIPTION:Jewish Federation of the Berkshires\nBerkshire Jewish Community
  Calendar\nhttps://jewishberkshires.org/jewish-federation-of-the-berkshire
 s-calendar/guest-rabbi-bethie-miller-will-join-us-for-shabbat-at-hevreh-14
 86740233\n\nRabbi Miller will help lead Shabbat Services with our Rabbi Jo
 die Gordon.   Come help welcome her!
DTSTART;TZID=America/New_York:20170324T193000
DTEND;TZID=America/New_York:20170324T213000
END:VEVENT
END:VCALENDAR
