BEGIN:VCALENDAR
PRODID:-//eluceo/ical//2.0/EN
VERSION:2.0
CALSCALE:GREGORIAN
BEGIN:VEVENT
UID:4b3087f4bdca3a885eb16e4143a0d372
DTSTAMP:20260422T065421Z
SUMMARY:Great Ideas Series - Paul Krugman
DESCRIPTION:Jewish Federation of the Berkshires\nBerkshire Jewish Community
  Calendar\nhttps://jewishberkshires.org/jewish-federation-of-the-berkshire
 s-calendar/great-ideas-series---paul-krugman-1686254996\n\nEach year we we
 lcome thought leaders in the American Jewish community to come share their
  greatest ideas with us. This year\, we are thrilled to welcome economist\
 , Nobel laureate\, and New York Times opinion columnist Paul Krugman. He h
 as written for the New York Times since 2000. He is the author of 27 books
  and countless articles focusing on the current trends in the American eco
 nomy. He is distinguished professor in the Graduate Center Economics Ph.D.
  program and distinguished scholar at...
DTSTART;TZID=America/New_York:20230806T103000
DTEND;TZID=America/New_York:20230806T120000
END:VEVENT
END:VCALENDAR
