BEGIN:VCALENDAR
PRODID:-//eluceo/ical//2.0/EN
VERSION:2.0
CALSCALE:GREGORIAN
BEGIN:VEVENT
UID:f9bf9f4cddfa73864ae9719cd8f19413
DTSTAMP:20260423T023936Z
SUMMARY:Great Ideas in Jewish Wisdom\, From Antiquity to Today: Rabbi Aaron
  Panken 
DESCRIPTION:Jewish Federation of the Berkshires\nBerkshire Jewish Community
  Calendar\nhttps://jewishberkshires.org/jewish-federation-of-the-berkshire
 s-calendar/great-ideas-in-jewish-wisdom-from-antiquity-to-toady-rabbi-aaro
 n-panken-1436365523\n\nScholar in Residence Weekend
DTSTART;TZID=America/New_York:20150717T193000
DTEND;TZID=America/New_York:20150717T213000
END:VEVENT
END:VCALENDAR
