BEGIN:VCALENDAR
PRODID:-//eluceo/ical//2.0/EN
VERSION:2.0
CALSCALE:GREGORIAN
BEGIN:VEVENT
UID:f6a1e34aedcaf0c7dd71572cf7f91319
DTSTAMP:20260421T174356Z
SUMMARY:Great Barrington Shop\, Sip and Stroll
DESCRIPTION:Jewish Federation of the Berkshires\nBerkshire Jewish Community
  Calendar\nhttps://jewishberkshires.org/jewish-federation-of-the-berkshire
 s-calendar/great-barrington-shop-sip-and-stroll-1669238100\n\nHevreh will 
 have a table with Chanukah merchandise for sale in Great Barrington during
  the annual winter holiday Shop\, Sip and Stroll.  Rabbi Neil Hirsch will 
 speak about the meaning of Chanukah at 7 p.m. on the Town Hall steps.
DTSTART;TZID=America/New_York:20221210T160000
DTEND;TZID=America/New_York:20221210T193000
END:VEVENT
END:VCALENDAR
