BEGIN:VCALENDAR
PRODID:-//eluceo/ical//2.0/EN
VERSION:2.0
CALSCALE:GREGORIAN
BEGIN:VEVENT
UID:33371dd44d5f83fccc1a465407b8b12e
DTSTAMP:20260420T180256Z
SUMMARY:Gospel Truth: Rabbi Josh Breindel's Summer Lecture Series Part 3
DESCRIPTION:Jewish Federation of the Berkshires\nBerkshire Jewish Community
  Calendar\nhttps://jewishberkshires.org/jewish-federation-of-the-berkshire
 s-calendar/gospel-truth-rabbi-josh-breindels-summer-lecture-series-part-3-
 1497368408\n\nJoin Rabbi Josh for the third of three conversations about t
 he New Testament with his Christian colleagues.  This session features Fat
 her Michael Bernier of Sacred Heart Church in Pittsfield.
DTSTART;TZID=America/New_York:20170712T120000
DTEND;TZID=America/New_York:20170712T133000
END:VEVENT
END:VCALENDAR
