BEGIN:VCALENDAR
PRODID:-//eluceo/ical//2.0/EN
VERSION:2.0
CALSCALE:GREGORIAN
BEGIN:VEVENT
UID:404879c7a5939b2001937000fdd5ec10
DTSTAMP:20260421T024141Z
SUMMARY:Getting our Hands Dirty: Protecting our Environment
DESCRIPTION:Jewish Federation of the Berkshires\nBerkshire Jewish Community
  Calendar\nhttps://jewishberkshires.org/jewish-federation-of-the-berkshire
 s-calendar/getting-our-hands-dirty\n\nJewish Federation Connecting with Co
 mmunity presents "Getting Our Hands Dirty: Protecting our Environment" wit
 h Elizabeth Orenstein\, Outreach and Education Coordinator for the Berkshi
 re Environmental Action Team (BEAT).  
DTSTART;TZID=America/New_York:20180322T104500
DTEND;TZID=America/New_York:20180322T120000
END:VEVENT
END:VCALENDAR
