BEGIN:VCALENDAR
PRODID:-//eluceo/ical//2.0/EN
VERSION:2.0
CALSCALE:GREGORIAN
BEGIN:VEVENT
UID:a3cadab0b3d13bbf3de1b0176a80f2f9
DTSTAMP:20260422T133734Z
SUMMARY:Georgia\, Justice and Jews: the Leo Frank Case
DESCRIPTION:Jewish Federation of the Berkshires\nBerkshire Jewish Community
  Calendar\nhttps://jewishberkshires.org/jewish-federation-of-the-berkshire
 s-calendar/georgia-justice-and-jews-the-leo-frank-case-1464115860\n\nThe L
 eo Frank case inspired the Anti-Defamation League\, helped rejuvenate the 
 Ku Klux Klan\, and continues to incite violent disagreement to this very d
 ay.  On July 27th at 11:30 a.m.\, Temple Anshe Amunim will host a dramatic
  power-point presentation by playwright/attorney Jesse Waldinger.  The acc
 ount will be illustrated by photographs\, diagrams\, and readings from Jes
 se Waldinger&rsquo\;s play &ldquo\;The Knights of Mary Phagan.&rdquo\;  Gu
 ests are invited to bring their own lunch\; beverages and dessert will be.
 ..
DTSTART;TZID=America/New_York:20160727T113000
DTEND;TZID=America/New_York:20160727T130000
END:VEVENT
END:VCALENDAR
