BEGIN:VCALENDAR
PRODID:-//eluceo/ical//2.0/EN
VERSION:2.0
CALSCALE:GREGORIAN
BEGIN:VEVENT
UID:e6d784fdf3e9a65e4e3fbe09f6c54da8
DTSTAMP:20260422T160952Z
SUMMARY:Gathering Our Hearts at Standing Rock
DESCRIPTION:Jewish Federation of the Berkshires\nBerkshire Jewish Community
  Calendar\nhttps://jewishberkshires.org/jewish-federation-of-the-berkshire
 s-calendar/gathering-our-hearst-at-standing-rock\n\nThe Jewish Federation 
 Connecting with Community series presents "Gathering Our Hearts at Standin
 g Rock\," a documentary film work in progress\, by Oscar-nominated directo
 r\, Fidel Moreno.
DTSTART;TZID=America/New_York:20170525T104500
DTEND;TZID=America/New_York:20170525T120000
END:VEVENT
END:VCALENDAR
