BEGIN:VCALENDAR
PRODID:-//eluceo/ical//2.0/EN
VERSION:2.0
CALSCALE:GREGORIAN
BEGIN:VEVENT
UID:e2158104975c6c648415e8666eec1a15
DTSTAMP:20260420T092846Z
SUMMARY:Game Day
DESCRIPTION:Jewish Federation of the Berkshires\nBerkshire Jewish Community
  Calendar\nhttps://jewishberkshires.org/jewish-federation-of-the-berkshire
 s-calendar/game-day-1747791692\n\nGame Day and Lunch for JWF members and t
 heir spouses along with first-time guests. Play your favorite game\, such 
 as Canasta\, Mah Jong\, Gin Rummy\, Bridge\, etc.
DTSTART;TZID=America/New_York:20250718T113000
DTEND;TZID=America/New_York:20250718T133000
END:VEVENT
END:VCALENDAR
