BEGIN:VCALENDAR
PRODID:-//eluceo/ical//2.0/EN
VERSION:2.0
CALSCALE:GREGORIAN
BEGIN:VEVENT
UID:d6d4b034c9a48528e27d7bb1790071c5
DTSTAMP:20260421T101545Z
SUMMARY:Gallery Talk: "Yiddish Fight Club" with Eddy Portnoy
DESCRIPTION:Jewish Federation of the Berkshires\nBerkshire Jewish Community
  Calendar\nhttps://jewishberkshires.org/jewish-federation-of-the-berkshire
 s-calendar/gallery-talk-yiddish-fight-club-with-eddy-portnoy-1458845435\n\
 nCurator Eddy Portnoy shares the story behind Yiddish Fight Club\, a look 
 at the often-overlooked history of Jewish boxers and wrestlers and the col
 orful Yiddish slang of this world. Portnoy is a senior researcher at the Y
 IVO Institute for Jewish Research\, where this exhibit was first mounted. 
 It will be in the Yiddish Book Center’s Brechner Gallery through Septemb
 er 30.Made possible in part by the Brechner family.
DTSTART;TZID=America/New_York:20160619T140000
DTEND;TZID=America/New_York:20160619T153000
END:VEVENT
END:VCALENDAR
