BEGIN:VCALENDAR
PRODID:-//eluceo/ical//2.0/EN
VERSION:2.0
CALSCALE:GREGORIAN
BEGIN:VEVENT
UID:04f3919ebf062afca0471cc3ef7c5680
DTSTAMP:20260420T075756Z
SUMMARY:GALLERY TALK | "Balka's Lower East Side\," with Laura Kruger
DESCRIPTION:Jewish Federation of the Berkshires\nBerkshire Jewish Community
  Calendar\nhttps://jewishberkshires.org/jewish-federation-of-the-berkshire
 s-calendar/gallery-talk--balkas-lower-east-side-with-laura-kruger-14716356
 88\n\nCurator Laura Kruger talks about the Yiddish Book Center’s new vis
 iting exhibit (in the Brechner Gallery through March 13\, 2017)\, a multi-
 artist exhibit that focuses on the experiences of Eastern European Jewish 
 immigrants on New York’s Lower East Side. From Hebrew Union College-Jewi
 sh Institute of Religion Museum.Made possible in part by the Brechner fami
 ly.
DTSTART;TZID=America/New_York:20161106T140000
DTEND;TZID=America/New_York:20161106T153000
END:VEVENT
END:VCALENDAR
