BEGIN:VCALENDAR
PRODID:-//eluceo/ical//2.0/EN
VERSION:2.0
CALSCALE:GREGORIAN
BEGIN:VEVENT
UID:ee1988944747f9344ddb5aecef5759f0
DTSTAMP:20260424T040126Z
SUMMARY:Gained in Translation: PJ Library's sister programs in Israel
DESCRIPTION:Jewish Federation of the Berkshires\nBerkshire Jewish Community
  Calendar\nhttps://jewishberkshires.org/jewish-federation-of-the-berkshire
 s-calendar/gained-in-translation-pj-librarys-sister-programs-in-israel-150
 0947419\n\nCome learn how the renowned PJ Library program has been adapted
  to create  exciting book gifting programs in Hebrew (Pajama Library) and 
 Arabic to help instill a love of books in Israel's Jewish and Arab childre
 n.  Hear about the complex considerations that go into choosing books that
  both unite and acknowledge Israel's  diverse population.
DTSTART;TZID=America/New_York:20170731T183000
DTEND;TZID=America/New_York:20170731T193000
END:VEVENT
END:VCALENDAR
