BEGIN:VCALENDAR
PRODID:-//eluceo/ical//2.0/EN
VERSION:2.0
CALSCALE:GREGORIAN
BEGIN:VEVENT
UID:582004d945c7c0f9f1211068b094bdbe
DTSTAMP:20260423T073658Z
SUMMARY:Film: Watchers of the Sky
DESCRIPTION:Jewish Federation of the Berkshires\nBerkshire Jewish Community
  Calendar\nhttps://jewishberkshires.org/jewish-federation-of-the-berkshire
 s-calendar/fulm-watchers-of-the-sky\n\nThe Jewish Federation of the Berksh
 ires Connecting with Community will commemorate Yom HaShoah by screening W
 atchers of the Sky
DTSTART;TZID=America/New_York:20160505T104500
DTEND;TZID=America/New_York:20160505T140000
END:VEVENT
END:VCALENDAR
