BEGIN:VCALENDAR
PRODID:-//eluceo/ical//2.0/EN
VERSION:2.0
CALSCALE:GREGORIAN
BEGIN:VEVENT
UID:e840ed87049c0a6280e1041ae7463b1d
DTSTAMP:20260422T050517Z
SUMMARY:Full Board of Directors Meeting for Federation
DESCRIPTION:Jewish Federation of the Berkshires\nBerkshire Jewish Community
  Calendar\nhttps://jewishberkshires.org/jewish-federation-of-the-berkshire
 s-calendar/full-board-of-directors-meeting-october-2025\n\nUnless notified
  otherwise\, all meetings will be held virtually. 
DTSTART;TZID=America/New_York:20251028T193000
DTEND;TZID=America/New_York:20251028T213000
END:VEVENT
END:VCALENDAR
