BEGIN:VCALENDAR
PRODID:-//eluceo/ical//2.0/EN
VERSION:2.0
CALSCALE:GREGORIAN
BEGIN:VEVENT
UID:c51fb549a2ebc38f926ee7566fa6a87f
DTSTAMP:20260419T191604Z
SUMMARY:Full Board of Directors Meeting for Federation
DESCRIPTION:Jewish Federation of the Berkshires\nBerkshire Jewish Community
  Calendar\nhttps://jewishberkshires.org/jewish-federation-of-the-berkshire
 s-calendar/full-board-of-directors-meeting-for-federation\n\nUnless notifi
 ed otherwise\, all meetings will be held virtually. 
DTSTART;TZID=America/New_York:20241029T193000
DTEND;TZID=America/New_York:20241029T213000
END:VEVENT
END:VCALENDAR
