BEGIN:VCALENDAR
PRODID:-//eluceo/ical//2.0/EN
VERSION:2.0
CALSCALE:GREGORIAN
BEGIN:VEVENT
UID:15db95586f0010ea65b5f9d6dadd010e
DTSTAMP:20260421T212910Z
SUMMARY:Full Board of Directors Meeting for Federation
DESCRIPTION:Jewish Federation of the Berkshires\nBerkshire Jewish Community
  Calendar\nhttps://jewishberkshires.org/jewish-federation-of-the-berkshire
 s-calendar/full-board-of-directors-meeting-december-2026\n\nUnless notifie
 d otherwise\, all meetings will be held virtually.
DTSTART;TZID=America/New_York:20261215T193000
DTEND;TZID=America/New_York:20261215T213000
END:VEVENT
END:VCALENDAR
