BEGIN:VCALENDAR
PRODID:-//eluceo/ical//2.0/EN
VERSION:2.0
CALSCALE:GREGORIAN
BEGIN:VEVENT
UID:94365e2b1d4d2e3ea4ad98e2689debce
DTSTAMP:20260419T203856Z
SUMMARY:Full Board of Directors Meeting for Federation
DESCRIPTION:Jewish Federation of the Berkshires\nBerkshire Jewish Community
  Calendar\nhttps://jewishberkshires.org/jewish-federation-of-the-berkshire
 s-calendar/full-board-of-directors-meeting-december-2025\n\nUnless notifie
 d otherwise\, all meetings will be held virtually.
DTSTART;TZID=America/New_York:20251216T193000
DTEND;TZID=America/New_York:20251216T213000
END:VEVENT
END:VCALENDAR
