BEGIN:VCALENDAR
PRODID:-//eluceo/ical//2.0/EN
VERSION:2.0
CALSCALE:GREGORIAN
BEGIN:VEVENT
UID:516b6971325d389fe2dd3f9611fd4d98
DTSTAMP:20260423T003353Z
SUMMARY:FREE Rosh Hashanah Kit for PJ Library Families!
DESCRIPTION:Jewish Federation of the Berkshires\nBerkshire Jewish Community
  Calendar\nhttps://jewishberkshires.org/jewish-federation-of-the-berkshire
 s-calendar/free-rosh-hashanah-kit-for-pj-library-families\n\n﻿We've got 
 your apples\, your honey and everything you need to make this holiday swee
 t and meaningful for the whole family! This Rosh Hashanah bag is filled wi
 th goodies to make your holiday sweet\, fun\, and educational\, including 
 your own shofar! (While supplies last. One kit per family). Sign up for y
 our free Rosh Hashanah Family kit by September 1 by registering below. Aft
 er you sign up for your family kit\, you will receive a link to join other
  families for a fun and interactive Rosh ...
DTSTART;TZID=America/New_York:20200903T173000
DTEND;TZID=America/New_York:20200903T183000
END:VEVENT
END:VCALENDAR
