BEGIN:VCALENDAR
PRODID:-//eluceo/ical//2.0/EN
VERSION:2.0
CALSCALE:GREGORIAN
BEGIN:VEVENT
UID:4ec4c62f168de2728cf392d7a3551837
DTSTAMP:20260421T123137Z
SUMMARY:Frankly Feminist: Short Stories by Jewish Women from Lilith Magazin
 e
DESCRIPTION:Jewish Federation of the Berkshires\nBerkshire Jewish Community
  Calendar\nhttps://jewishberkshires.org/jewish-federation-of-the-berkshire
 s-calendar/frankly-feminist-short-stories-by-jewish-women-from-lilith-maga
 zine\n\nVia Zoom.  Register HERE.\n\nJewish Literary Voices: A Jewish Fed
 eration of the Berkshires Series in collaboration with the Jewish Book Cou
 ncil\n\nJoin in conversation facilitated by Rabbi Elyse Frishman with Lili
 th's Susan Weidman Schneider\, Editor in Chief\, and Yona Zeldis McDonough
 \, Fiction Editor\, of their groundbreaking Jewish feminist short story c
 ollection\, Frankly Feminist.\n \nShort story collections focusing on Jew
 ish writers have—no surprise—typically given women authors sho...
DTSTART;TZID=America/New_York:20230316T184500
DTEND;TZID=America/New_York:20230316T194500
END:VEVENT
END:VCALENDAR
