BEGIN:VCALENDAR
PRODID:-//eluceo/ical//2.0/EN
VERSION:2.0
CALSCALE:GREGORIAN
BEGIN:VEVENT
UID:c984763b8ee4425f917c49c9dbb74b20
DTSTAMP:20260419T162638Z
SUMMARY:Four Women\, Four Stories - Concert
DESCRIPTION:Jewish Federation of the Berkshires\nBerkshire Jewish Community
  Calendar\nhttps://jewishberkshires.org/jewish-federation-of-the-berkshire
 s-calendar/four-women-four-stories---concert-1686255852\n\nOn Monday\, Aug
 ust 21 at 7 pm\, Hevreh welcomes Deborah Zecher\, Helane\nBlumfield\, Pegg
 y Schwartz and Lynda Rodolitz for a performance of FOUR\nWOMEN\, FOUR STOR
 IES with Steven Ray Watkins on piano. With the music\nof ‘mostly’ Jewi
 sh songwriters\, this show highlights our choices and the paths our\nlives
  have taken. Audiences have responded with laughter\, tears and the ‘aha
 ’ of\nrecognizing their own life experience in the tales told on stage. 
 Tickets: $25\, $10\nfor students....
DTSTART;TZID=America/New_York:20230821T190000
DTEND;TZID=America/New_York:20230821T210000
END:VEVENT
END:VCALENDAR
