BEGIN:VCALENDAR
PRODID:-//eluceo/ical//2.0/EN
VERSION:2.0
CALSCALE:GREGORIAN
BEGIN:VEVENT
UID:16fa9935469f79c40885b92004376a75
DTSTAMP:20260421T024345Z
SUMMARY:FOUR WINTERS Documentary
DESCRIPTION:Jewish Federation of the Berkshires\nBerkshire Jewish Community
  Calendar\nhttps://jewishberkshires.org/jewish-federation-of-the-berkshire
 s-calendar/four-winters-1658245426\n\nFOUR WINTERS... Torn from their fami
 lies by the ravages of Hitler’s armies\, men and women\, many barely in 
 their teens\, escaped into the forests\, banding together in partisan brig
 ades\; engaging in treacherous acts of sabotage\, blowing up trains\, burn
 ing electric stations\, and attacking armed enemy headquarters. Despite ex
 traordinary odds\, over 25\,000 Jewish partisans courageously fought back 
 against the Nazis and their collaborators from deep within the forests of 
 WWII’s Belarus\, Ukraine\,...
DTSTART;TZID=America/New_York:20220802T160000
DTEND;TZID=America/New_York:20220802T180000
END:VEVENT
END:VCALENDAR
