BEGIN:VCALENDAR
PRODID:-//eluceo/ical//2.0/EN
VERSION:2.0
CALSCALE:GREGORIAN
BEGIN:VEVENT
UID:ee6acd9179c650793b214f18326f3022
DTSTAMP:20260422T134332Z
SUMMARY:Four Unknown Jewish Men and How They Changed America and the World
DESCRIPTION:Jewish Federation of the Berkshires\nBerkshire Jewish Community
  Calendar\nhttps://jewishberkshires.org/jewish-federation-of-the-berkshire
 s-calendar/four-unknown-jewish-men-and-how-they-changed-america-and-the-wo
 rld\n\n David Rutstein presents "Four Unknown Jewish Men and How They Chan
 ged America and the World." 
DTSTART;TZID=America/New_York:20160926T104500
DTEND;TZID=America/New_York:20160926T120000
END:VEVENT
END:VCALENDAR
