BEGIN:VCALENDAR
PRODID:-//eluceo/ical//2.0/EN
VERSION:2.0
CALSCALE:GREGORIAN
BEGIN:VEVENT
UID:9e7d5a4c2e58cf073f1724d0c4b9c869
DTSTAMP:20260421T173219Z
SUMMARY:Four Tremendous Texts: Lunch and Learn with Rabbi Neil P.G. Hirsch
DESCRIPTION:Jewish Federation of the Berkshires\nBerkshire Jewish Community
  Calendar\nhttps://jewishberkshires.org/jewish-federation-of-the-berkshire
 s-calendar/four-tremendous-texts-lunch-and-learn-with-rabbi-neil-pg-hirsch
 -1436373147\n\nAs the People of the Book\, our lives are reflected through
  our sacred texts and the conversation that surround them. Join Rabbi Hirs
 ch to study four tremendous texts from our tradition. In the four sessions
 \, we will trace through the major periods of Jewish thought\, focusing on
  one text and period each week: biblical\, rabbinic\, medieval\, and moder
 n. Please bring your lunch.
DTSTART;TZID=America/New_York:20150805T114500
DTEND;TZID=America/New_York:20150805T130000
END:VEVENT
END:VCALENDAR
