BEGIN:VCALENDAR
PRODID:-//eluceo/ical//2.0/EN
VERSION:2.0
CALSCALE:GREGORIAN
BEGIN:VEVENT
UID:a4363f5b68dd5aa3ab1bff32cc167c01
DTSTAMP:20260424T213506Z
SUMMARY:A Five-Week Book Read: Anti-Semitism Re-Visited
DESCRIPTION:Jewish Federation of the Berkshires\nBerkshire Jewish Community
  Calendar\nhttps://jewishberkshires.org/jewish-federation-of-the-berkshire
 s-calendar/five-week-book-read\n\nFor five Tuesday evenings\, January 6-Fe
 bruary 10 (skipping February 3)\, join Rabbi Pam Wax on Zoom to discuss on
 e chapter of the book Anti-Semitism Revisited by Rabbi Delphine Horvilleur
  each week. Called a “superstar rabbi” by The Forward\, Rabbi Horville
 ur was the inspiration for the successful French series Le Sens des choses
 \, now streaming as Reformed on HBO Max. Pre-register at knessetisrael.org
 /rsvp.\n\nPlease purchase the book and read the Introduction (“Jews are 
 Just Too Much”)...
DTSTART;TZID=America/New_York:20260210T190000
DTEND;TZID=America/New_York:20260210T203000
END:VEVENT
END:VCALENDAR
