BEGIN:VCALENDAR
PRODID:-//eluceo/ical//2.0/EN
VERSION:2.0
CALSCALE:GREGORIAN
BEGIN:VEVENT
UID:0f63baf8203f2538291ab14a93fb6277
DTSTAMP:20260421T231616Z
SUMMARY:Finding Your Roots--Jewish-Style
DESCRIPTION:Jewish Federation of the Berkshires\nBerkshire Jewish Community
  Calendar\nhttps://jewishberkshires.org/jewish-federation-of-the-berkshire
 s-calendar/finding-your-roots--jewish-style-1515258490\n\nNeed help with g
 enealogy research?  Get private consultations with skilled researchers at 
 this special workshop.
DTSTART;TZID=America/New_York:20180204T133000
DTEND;TZID=America/New_York:20180204T160000
END:VEVENT
END:VCALENDAR
