BEGIN:VCALENDAR
PRODID:-//eluceo/ical//2.0/EN
VERSION:2.0
CALSCALE:GREGORIAN
BEGIN:VEVENT
UID:afcb8d8fc4a8aedf73a676de5af792f2
DTSTAMP:20260419T162313Z
SUMMARY:Films: “Isaac Singer’s Nightmare and Mrs. Pupko’s Beard”
DESCRIPTION:Jewish Federation of the Berkshires\nBerkshire Jewish Community
  Calendar\nhttps://jewishberkshires.org/jewish-federation-of-the-berkshire
 s-calendar/films-isaac-singers-nightmare-and-mrs-pupkos-beard-1553003656\n
 \nIntimate\, poignant interviews and exclusive archival footage combine to
  portray the unknown story of an author who charmed and enchanted his audi
 ences.
DTSTART;TZID=America/New_York:20190402T190000
DTEND;TZID=America/New_York:20190402T203000
END:VEVENT
END:VCALENDAR
