BEGIN:VCALENDAR
PRODID:-//eluceo/ical//2.0/EN
VERSION:2.0
CALSCALE:GREGORIAN
BEGIN:VEVENT
UID:c326a8220be75e134e9d5c6fae53ab7e
DTSTAMP:20260419T180730Z
SUMMARY:FILMS | "Make Me a Match" and "A Thousand Kisses"
DESCRIPTION:Jewish Federation of the Berkshires\nBerkshire Jewish Community
  Calendar\nhttps://jewishberkshires.org/jewish-federation-of-the-berkshire
 s-calendar/films--make-me-a-match-and-a-thousand-kisses-1568403331\n\n&ldq
 uo\;Make Me a Match&rdquo\; captures the passion of Jewish singles looking
  for a match in 2000s America. &ldquo\;A Thousand Kisses&rdquo\; presents 
 a love story tainted by the harsh historical context of its time. 
DTSTART;TZID=America/New_York:20200202T140000
DTEND;TZID=America/New_York:20200202T153000
END:VEVENT
END:VCALENDAR
