BEGIN:VCALENDAR
PRODID:-//eluceo/ical//2.0/EN
VERSION:2.0
CALSCALE:GREGORIAN
BEGIN:VEVENT
UID:9ada4da8ec67c11b58171e974a9c37ed
DTSTAMP:20260422T033207Z
SUMMARY:Film: “The Women's Balcony”
DESCRIPTION:Jewish Federation of the Berkshires\nBerkshire Jewish Community
  Calendar\nhttps://jewishberkshires.org/jewish-federation-of-the-berkshire
 s-calendar/film-the-womens-balcony-1525795448\n\nAn accident during a bar 
 mitzvah celebration leads to a gender rift in a devout Orthodox community 
 in Jerusalem\, in this rousing\, good-hearted tale about women speaking tr
 uth to patriarchal power.\n\nFor more information and to purchase tickets:
  http://support.yiddishbookcenter.org/site/Calendar?id=7703&view=Detail
DTSTART;TZID=America/New_York:20180513T140000
DTEND;TZID=America/New_York:20180513T160000
END:VEVENT
END:VCALENDAR
