BEGIN:VCALENDAR
PRODID:-//eluceo/ical//2.0/EN
VERSION:2.0
CALSCALE:GREGORIAN
BEGIN:VEVENT
UID:5ac31871770b51e6f3168be4c7d143ff
DTSTAMP:20260422T103202Z
SUMMARY:Film: "The Jester"
DESCRIPTION:Jewish Federation of the Berkshires\nBerkshire Jewish Community
  Calendar\nhttps://jewishberkshires.org/jewish-federation-of-the-berkshire
 s-calendar/film-the-jester-1416514923\n\nFilm set in the lively Yiddish ca
 baret scene of 1930s Warsaw
DTSTART;TZID=America/New_York:20141123T140000
DTEND;TZID=America/New_York:20141123T154500
END:VEVENT
END:VCALENDAR
