BEGIN:VCALENDAR
PRODID:-//eluceo/ical//2.0/EN
VERSION:2.0
CALSCALE:GREGORIAN
BEGIN:VEVENT
UID:6fe9d272a6bf1ca057f2f4c8ddd9ada6
DTSTAMP:20260420T215400Z
SUMMARY:Film: “Song of the Lodz Ghetto”
DESCRIPTION:Jewish Federation of the Berkshires\nBerkshire Jewish Community
  Calendar\nhttps://jewishberkshires.org/jewish-federation-of-the-berkshire
 s-calendar/film-song-of-the-lodz-ghetto-1526237550\n\nThis documentary is 
 a moving account of the history of Poland’s “first and last” Jewish 
 ghetto\, and tells the life story of the ghetto’s beloved street singer\
 , Yankele Herszkowicz.
DTSTART;TZID=America/New_York:20180701T140000
DTEND;TZID=America/New_York:20180701T153000
END:VEVENT
END:VCALENDAR
