BEGIN:VCALENDAR
PRODID:-//eluceo/ical//2.0/EN
VERSION:2.0
CALSCALE:GREGORIAN
BEGIN:VEVENT
UID:924d2303cdfdbb83adc2c46856a0ccc5
DTSTAMP:20260424T113318Z
SUMMARY:Film: "Sholem Aleichem: A Conversation with Ruth Wisse and David Ro
 skies"
DESCRIPTION:Jewish Federation of the Berkshires\nBerkshire Jewish Community
  Calendar\nhttps://jewishberkshires.org/jewish-federation-of-the-berkshire
 s-calendar/film-sholem-aleichem-a-conversation-with-ruth-wisse-and-david-r
 oskies-1458845164\n\nThe premiere of a special film\, recorded live last f
 all at the Yiddish Book Center: on the hundredth anniversary of the death 
 of Sholem Aleichem\, two of the world’s most engaging Yiddish scholars
 —Ruth Wisse\, recently retired from Harvard\, and her brother\, David Ro
 skies\, of Hebrew University and the Jewish Theological Seminary—retell\
 , discuss\, and debate their favorite Sholem Aleichem stories in a lively\
 , freewheeling demonstration.USA\, 2015\, 80 minutes\, color\, English. Di
 rector: Joseph ...
DTSTART;TZID=America/New_York:20160529T140000
DTEND;TZID=America/New_York:20160529T153000
END:VEVENT
END:VCALENDAR
