BEGIN:VCALENDAR
PRODID:-//eluceo/ical//2.0/EN
VERSION:2.0
CALSCALE:GREGORIAN
BEGIN:VEVENT
UID:ff78096703769c57d66470495fa76b61
DTSTAMP:20260420T130106Z
SUMMARY:Film: “Shalom Italia”
DESCRIPTION:Jewish Federation of the Berkshires\nBerkshire Jewish Community
  Calendar\nhttps://jewishberkshires.org/jewish-federation-of-the-berkshire
 s-calendar/film-shalom-italia-1555438245\n\nThree Italian Jewish brothers 
 set off on a journey through Tuscany in search of a cave in which they hid
  as children to escape the Nazis.
DTSTART;TZID=America/New_York:20190811T140000
DTEND;TZID=America/New_York:20190811T153000
END:VEVENT
END:VCALENDAR
