BEGIN:VCALENDAR
PRODID:-//eluceo/ical//2.0/EN
VERSION:2.0
CALSCALE:GREGORIAN
BEGIN:VEVENT
UID:0c2bbca503a4094dc3a6392eabc69644
DTSTAMP:20260423T170511Z
SUMMARY:Film Screening on Life of Primo Levi
DESCRIPTION:Jewish Federation of the Berkshires\nBerkshire Jewish Community
  Calendar\nhttps://jewishberkshires.org/jewish-federation-of-the-berkshire
 s-calendar/film-screening-on-life-of-primo-levi\n\nfilm screening on the l
 ife of Primo Levi.
DTSTART;TZID=America/New_York:20180702T104500
DTEND;TZID=America/New_York:20180702T133000
END:VEVENT
END:VCALENDAR
