BEGIN:VCALENDAR
PRODID:-//eluceo/ical//2.0/EN
VERSION:2.0
CALSCALE:GREGORIAN
BEGIN:VEVENT
UID:24d0826e3716e79aa8aed35266e02b4c
DTSTAMP:20260420T184416Z
SUMMARY:Film Screening: Morning at the Movies   “Dough”
DESCRIPTION:Jewish Federation of the Berkshires\nBerkshire Jewish Community
  Calendar\nhttps://jewishberkshires.org/jewish-federation-of-the-berkshire
 s-calendar/film-screening-morning-at-the-movies---dough-1486747196\n\nA He
 vreh Confirmation Class Fundraiser  
DTSTART;TZID=America/New_York:20170319T103000
DTEND;TZID=America/New_York:20170319T123000
END:VEVENT
END:VCALENDAR
