BEGIN:VCALENDAR
PRODID:-//eluceo/ical//2.0/EN
VERSION:2.0
CALSCALE:GREGORIAN
BEGIN:VEVENT
UID:6d321f5286c5a1c73bcbc3df197431a4
DTSTAMP:20260420T151543Z
SUMMARY:Film: “Restoring Tomorrow”
DESCRIPTION:Jewish Federation of the Berkshires\nBerkshire Jewish Community
  Calendar\nhttps://jewishberkshires.org/jewish-federation-of-the-berkshire
 s-calendar/film-restoring-tomorrow-1526427432\n\nThis documentary tells a 
 universal story of hope as a treasured local temple near demise is lifted 
 up by a community&rsquo\;s determination to achieve the impossible.\n\n
DTSTART;TZID=America/New_York:20180805T140000
DTEND;TZID=America/New_York:20180805T153000
END:VEVENT
END:VCALENDAR
