BEGIN:VCALENDAR
PRODID:-//eluceo/ical//2.0/EN
VERSION:2.0
CALSCALE:GREGORIAN
BEGIN:VEVENT
UID:2f0e61f8a89e9df280a6809a5bb770cf
DTSTAMP:20260421T232850Z
SUMMARY:Film: “Love\, Gilda”
DESCRIPTION:Jewish Federation of the Berkshires\nBerkshire Jewish Community
  Calendar\nhttps://jewishberkshires.org/jewish-federation-of-the-berkshire
 s-calendar/film-love-gilda-1553527175\n\nWeaving together recently discove
 red audiotapes\, interviews with friends\, and rare home movies and diarie
 s\, comedian Gilda Radner reflects on her life and career in her own words
 .
DTSTART;TZID=America/New_York:20190512T140000
DTEND;TZID=America/New_York:20190512T153000
END:VEVENT
END:VCALENDAR
