BEGIN:VCALENDAR
PRODID:-//eluceo/ical//2.0/EN
VERSION:2.0
CALSCALE:GREGORIAN
BEGIN:VEVENT
UID:acee7348d3ebfac5eaff4b8f43d7188a
DTSTAMP:20260420T031032Z
SUMMARY:Film: "Famous Nathan:
DESCRIPTION:Jewish Federation of the Berkshires\nBerkshire Jewish Community
  Calendar\nhttps://jewishberkshires.org/jewish-federation-of-the-berkshire
 s-calendar/film-famous-nathan-1441307445\n\nThe documentary "Famous Nathan
 " chronicles the personal and public history of Nathan’s Famous\, the ic
 onic Coney Island hot dog restaurant created in 1916 by filmmaker Lloyd Ha
 ndwerker’s grandfather Nathan Handwerker.
DTSTART;TZID=America/New_York:20150920T140000
DTEND;TZID=America/New_York:20150920T154500
END:VEVENT
END:VCALENDAR
