BEGIN:VCALENDAR
PRODID:-//eluceo/ical//2.0/EN
VERSION:2.0
CALSCALE:GREGORIAN
BEGIN:VEVENT
UID:a5856c4b23a4beab75f42c783f833228
DTSTAMP:20260424T052203Z
SUMMARY:Film Event for Yom HaShoah—Eldorado: Everything the Nazis Hate
DESCRIPTION:Jewish Federation of the Berkshires\nBerkshire Jewish Community
  Calendar\nhttps://jewishberkshires.org/jewish-federation-of-the-berkshire
 s-calendar/film-event-for-yom-hashoah-eldorado-1742239651\n\nA glittery ni
 ghtclub in 1920s Berlin becomes a haven for LGBTQ+ communities in this doc
 umentary exploring the freedoms lost amid Adolf Hitler's rise to power.\n\
 nPost Film Speakers: Bart Church\, board CEO and Executive Director of Q-M
 oB.\nRachel Hall and Mason Purdy of the Religious Action Center of the Uni
 on for Reform Judaism.\n\nThere is no fee but please register at www.tinyu
 rl.com/EldoradoFilm
DTSTART;TZID=America/New_York:20250424T183000
DTEND;TZID=America/New_York:20250424T203000
END:VEVENT
END:VCALENDAR
