BEGIN:VCALENDAR
PRODID:-//eluceo/ical//2.0/EN
VERSION:2.0
CALSCALE:GREGORIAN
BEGIN:VEVENT
UID:efa90f30b88811235914a70a94828d9e
DTSTAMP:20260425T205157Z
SUMMARY:Film: "Deli Man"
DESCRIPTION:Jewish Federation of the Berkshires\nBerkshire Jewish Community
  Calendar\nhttps://jewishberkshires.org/jewish-federation-of-the-berkshire
 s-calendar/film-deli-man-1441208891\n\nIn Houston\, Texas\, third-generati
 on deli man Ziggy Gruber has built arguably the finest delicatessen in the
  U.S. The new documentary "Deli Man" tells Ziggy’s story as well as the 
 tales of iconic spots such as Katz’s\, the 2nd Avenue Deli\, Nate ’n A
 l’s\, the Carnegie\, and the Stage Deli\, looking at the challenges the 
 business faces in the twenty-first century and what draws people like Zigg
 y to keep the tradition alive.
DTSTART;TZID=America/New_York:20150906T140000
DTEND;TZID=America/New_York:20150906T154500
END:VEVENT
END:VCALENDAR
