BEGIN:VCALENDAR
PRODID:-//eluceo/ical//2.0/EN
VERSION:2.0
CALSCALE:GREGORIAN
BEGIN:VEVENT
UID:2d3abb0ca253c4f96349a9b761d10305
DTSTAMP:20260425T160239Z
SUMMARY:Film: "Defiant Requiem"
DESCRIPTION:Jewish Federation of the Berkshires\nBerkshire Jewish Community
  Calendar\nhttps://jewishberkshires.org/jewish-federation-of-the-berkshire
 s-calendar/film-defiant-requiem-1458845577\n\nIn the Nazi concentration ca
 mp Terezin\, imprisoned conductor Rafael Schächter led his fellow inmates
  to fight back with art and music\, including a performance of one of the 
 world's most difficult and powerful choral works\, Verdi's Requiem\, re-im
 agined as a condemnation of the Nazis. The film also tells the story of co
 nductor Murry Sidlin\, who decades later brought the Requiem back to Terez
 in in tribute. USA\, 2015\, 85 minutes\, color\, English. Director: Doug S
 hultz.Students: $4\, Members: $6\, G...
DTSTART;TZID=America/New_York:20160703T140000
DTEND;TZID=America/New_York:20160703T153000
END:VEVENT
END:VCALENDAR
