BEGIN:VCALENDAR
PRODID:-//eluceo/ical//2.0/EN
VERSION:2.0
CALSCALE:GREGORIAN
BEGIN:VEVENT
UID:1cddb85533b647581d484bd47d62ec05
DTSTAMP:20260425T032012Z
SUMMARY:Film: “Call Her Applebroog”
DESCRIPTION:Jewish Federation of the Berkshires\nBerkshire Jewish Community
  Calendar\nhttps://jewishberkshires.org/jewish-federation-of-the-berkshire
 s-calendar/film-call-her-applebroog-1553534692\n\nBorn in the Bronx to Ort
 hodox Jewish émigrés from Poland\, Applebroog\, now in her 80s\, looks b
 ack at how she expressed herself through decades of drawings and paintings
 \, as well as private journals.
DTSTART;TZID=America/New_York:20190526T140000
DTEND;TZID=America/New_York:20190526T153000
END:VEVENT
END:VCALENDAR
