BEGIN:VCALENDAR
PRODID:-//eluceo/ical//2.0/EN
VERSION:2.0
CALSCALE:GREGORIAN
BEGIN:VEVENT
UID:3fdd4872f65843cbc708faf44f32c6c2
DTSTAMP:20260425T205105Z
SUMMARY:Film: "Bitter Herbs and Honey"
DESCRIPTION:Jewish Federation of the Berkshires\nBerkshire Jewish Community
  Calendar\nhttps://jewishberkshires.org/jewish-federation-of-the-berkshire
 s-calendar/film-bitter-herbs-and-honey-1416516276\n\nA richly textured sto
 ry of the making of multi-cultural Australia. Through the saga of the Jewi
 sh migrants\, mainly from Eastern Europe\, who settled in Melbourne’s in
 ner-city suburb of Carlton\, the film explores issues at the heart of Aust
 ralia’s development towards cultural diversity—struggle between the ol
 d and the new\, the powerful and the weak\, identity and assimilation.Aust
 ralia\, 1996.COST: Student: $4 Member: $6 General Admission: $8
DTSTART;TZID=America/New_York:20150104T140000
DTEND;TZID=America/New_York:20150104T154500
END:VEVENT
END:VCALENDAR
