BEGIN:VCALENDAR
PRODID:-//eluceo/ical//2.0/EN
VERSION:2.0
CALSCALE:GREGORIAN
BEGIN:VEVENT
UID:e11a4a946f6e657cf8dd5f6488d52c70
DTSTAMP:20260422T012440Z
SUMMARY:Film: “Birobidzhan”
DESCRIPTION:Jewish Federation of the Berkshires\nBerkshire Jewish Community
  Calendar\nhttps://jewishberkshires.org/jewish-federation-of-the-berkshire
 s-calendar/film-birobidzhan-1555523163\n\nIn 1934\, the Soviet Union found
 ed the Jewish Autonomous Oblast\, an independent communist state for Jews 
 in a remote corner of Russia where the official language was Yiddish.
DTSTART;TZID=America/New_York:20190825T140000
DTEND;TZID=America/New_York:20190825T153000
END:VEVENT
END:VCALENDAR
