BEGIN:VCALENDAR
PRODID:-//eluceo/ical//2.0/EN
VERSION:2.0
CALSCALE:GREGORIAN
BEGIN:VEVENT
UID:b41fba76cfef87470d2cde7e48435447
DTSTAMP:20260421T013508Z
SUMMARY:Film: "Art and Heart: The World of Isaiah Sheffer"
DESCRIPTION:Jewish Federation of the Berkshires\nBerkshire Jewish Community
  Calendar\nhttps://jewishberkshires.org/jewish-federation-of-the-berkshire
 s-calendar/film-art-and-heart-the-world-of-isaiah-sheffer-1458845031\n\nTh
 e cofounder and artistic director of New York’s Symphony Space and the r
 esonant voice of public radio’s Selected Shorts\, Isaiah Sheffer was an 
 actor\, director\, radio announcer\, playwright\, lyricist\, singer\, ment
 or\, cultural entrepreneur\, creative thinker\, loyal friend\, champion of
  those he worked with\, dreamer\, and impresario. This portrait of a belov
 ed figure in the arts community includes interviews with Morgan Freeman\, 
 Stephen Colbert\, Leonard Nimoy\, and others. Director Catherine Ta...
DTSTART;TZID=America/New_York:20160515T140000
DTEND;TZID=America/New_York:20160515T153000
END:VEVENT
END:VCALENDAR
