BEGIN:VCALENDAR
PRODID:-//eluceo/ical//2.0/EN
VERSION:2.0
CALSCALE:GREGORIAN
BEGIN:VEVENT
UID:9064ed8f1e92365f80585e0e9a31cc41
DTSTAMP:20260422T195706Z
SUMMARY:Film: “1945”
DESCRIPTION:Jewish Federation of the Berkshires\nBerkshire Jewish Community
  Calendar\nhttps://jewishberkshires.org/jewish-federation-of-the-berkshire
 s-calendar/film-1945-1534796625\n\nOn a summer day in 1945\, an Orthodox m
 an and his grown son return to a village in Hungary while the villagers pr
 epare for the wedding of the town clerk&rsquo\;s son.
DTSTART;TZID=America/New_York:20181111T140000
DTEND;TZID=America/New_York:20181111T153000
END:VEVENT
END:VCALENDAR
