BEGIN:VCALENDAR
PRODID:-//eluceo/ical//2.0/EN
VERSION:2.0
CALSCALE:GREGORIAN
BEGIN:VEVENT
UID:1e3f03fea544096a772de4cdcc5f2468
DTSTAMP:20260421T044313Z
SUMMARY:FILM | "Tony Curtis: Driven to Stardom"
DESCRIPTION:Jewish Federation of the Berkshires\nBerkshire Jewish Community
  Calendar\nhttps://jewishberkshires.org/jewish-federation-of-the-berkshire
 s-calendar/film--tony-curtis-driven-to-stardom-1566927261\n\nTony Curtis\,
  the man who influenced Elvis Presley and James Dean\, was one of the very
  first teen idols and one of the last real movie stars. "Tony Curtis: Driv
 en to Stardom" presents Mr. Curtis's life in all its rags to riches glory.
DTSTART;TZID=America/New_York:20191013T140000
DTEND;TZID=America/New_York:20191013T160000
END:VEVENT
END:VCALENDAR
