BEGIN:VCALENDAR
PRODID:-//eluceo/ical//2.0/EN
VERSION:2.0
CALSCALE:GREGORIAN
BEGIN:VEVENT
UID:62dce2a6117b284db7d2f2c21576aebf
DTSTAMP:20260420T015819Z
SUMMARY:FILM | "There Are Jews Here"
DESCRIPTION:Jewish Federation of the Berkshires\nBerkshire Jewish Community
  Calendar\nhttps://jewishberkshires.org/jewish-federation-of-the-berkshire
 s-calendar/film--there-are-jews-here-1506371659\n\nMore than one million A
 merican Jews live in once-thriving small towns that have seen better days.
  There Are Jews Here tells the stories of the people working to keep the J
 ewish spirit alive in places such as Butte\, Montana\; Laredo\, Texas\; Do
 than\, Alabama\; and Latrobe\, Pennsylvania\, exploring themes of faith an
 d community and looking at what Jews are doing to keep their communities a
 live and ensure their legacies are not lost.USA\, 2016\, 90 minutes\, colo
 r\, English. Directors: Brad Lichtenstein an...
DTSTART;TZID=America/New_York:20180225T140000
DTEND;TZID=America/New_York:20180225T153000
END:VEVENT
END:VCALENDAR
